BEGIN:VCALENDAR
VERSION:2.0
PRODID:-//タワーホール船堀 - ECPv6.0.13.1//NONSGML v1.0//EN
CALSCALE:GREGORIAN
METHOD:PUBLISH
X-ORIGINAL-URL:https://www.towerhall.jp
X-WR-CALDESC:タワーホール船堀 のイベント
REFRESH-INTERVAL;VALUE=DURATION:PT1H
X-Robots-Tag:noindex
X-PUBLISHED-TTL:PT1H
BEGIN:VTIMEZONE
TZID:Asia/Tokyo
BEGIN:STANDARD
TZOFFSETFROM:+0900
TZOFFSETTO:+0900
TZNAME:JST
DTSTART:20260101T000000
END:STANDARD
END:VTIMEZONE
BEGIN:VEVENT
DTSTART;TZID=Asia/Tokyo:20260609T130000
DTEND;TZID=Asia/Tokyo:20260609T153000
DTSTAMP:20260422T190640
CREATED:20260420T123922Z
LAST-MODIFIED:20260420T123922Z
UID:7045-1781010000-1781019000@www.towerhall.jp
SUMMARY:市民公開講座「腸内細菌と運動」
DESCRIPTION:開催日 \n2026年6月9日(火) \n  \n開場/13:00 \n開演/13:30 \n終演/15:30 \n  \n入場料無料 \n  \n詳細はこちら \n  \n問合せ先 \n公益財団法人腸内細菌学会 \njbf@ipec-pub.co.jp \nhttps://bifidus-fund.jp/index.shtml
URL:https://www.towerhall.jp/event/tribe_events-7045/
CATEGORIES:小ホール
END:VEVENT
END:VCALENDAR