BEGIN:VCALENDAR
VERSION:2.0
PRODID:-//タワーホール船堀 - ECPv6.0.13.1//NONSGML v1.0//EN
CALSCALE:GREGORIAN
METHOD:PUBLISH
X-WR-CALNAME:タワーホール船堀
X-ORIGINAL-URL:https://www.towerhall.jp
X-WR-CALDESC:タワーホール船堀 のイベント
REFRESH-INTERVAL;VALUE=DURATION:PT1H
X-Robots-Tag:noindex
X-PUBLISHED-TTL:PT1H
BEGIN:VTIMEZONE
TZID:Asia/Tokyo
BEGIN:STANDARD
TZOFFSETFROM:+0900
TZOFFSETTO:+0900
TZNAME:JST
DTSTART:20260101T000000
END:STANDARD
END:VTIMEZONE
BEGIN:VEVENT
DTSTART;VALUE=DATE:20260524
DTEND;VALUE=DATE:20260525
DTSTAMP:20260422T173938
CREATED:20260306T062654Z
LAST-MODIFIED:20260306T062654Z
UID:6912-1779580800-1779667199@www.towerhall.jp
SUMMARY:第11回水と緑のまち江戸川新進音楽家コンクール
DESCRIPTION:（注）受賞者は2026年8月23日（日曜日）にタワーホール船堀で開催する受賞者記念コンサートに \n出演していただきます。 \n  \n開催日時 \n2026年5月24日（日曜日） \n  \n問） \n江戸川区音楽協議会　新進音楽家コンクール【担当】深野\n電話（090-9832-2044）\n詳細はこちら
URL:https://www.towerhall.jp/event/tribe_events-6912/
LOCATION:大ホール
CATEGORIES:大ホール
END:VEVENT
END:VCALENDAR