BEGIN:VCALENDAR
VERSION:2.0
PRODID:-//タワーホール船堀 - ECPv6.0.13.1//NONSGML v1.0//EN
CALSCALE:GREGORIAN
METHOD:PUBLISH
X-ORIGINAL-URL:https://www.towerhall.jp
X-WR-CALDESC:タワーホール船堀 のイベント
REFRESH-INTERVAL;VALUE=DURATION:PT1H
X-Robots-Tag:noindex
X-PUBLISHED-TTL:PT1H
BEGIN:VTIMEZONE
TZID:Asia/Tokyo
BEGIN:STANDARD
TZOFFSETFROM:+0900
TZOFFSETTO:+0900
TZNAME:JST
DTSTART:20260101T000000
END:STANDARD
END:VTIMEZONE
BEGIN:VEVENT
DTSTART;TZID=Asia/Tokyo:20260523T100000
DTEND;TZID=Asia/Tokyo:20260523T113000
DTSTAMP:20260422T174123
CREATED:20260221T065645Z
LAST-MODIFIED:20260221T065645Z
UID:6874-1779530400-1779535800@www.towerhall.jp
SUMMARY:初心者のための茶道教室（前期）
DESCRIPTION:開催日時\n2026年5月23日（土曜日）\n\n全6回の連続講座です。\n講座開始時間は10時です。\n終了時間は11時30分を予定しています。\n4階　和室2 \n  \n問合せ\n江戸川区華道茶道協会\n石田(電話番号：090-6701-8359) \n  \n主催\n江戸川区華道茶道協会 \n  \n詳細はこちらまで
URL:https://www.towerhall.jp/event/tribe_events-6874/
CATEGORIES:その他
END:VEVENT
END:VCALENDAR