BEGIN:VCALENDAR
VERSION:2.0
PRODID:-//タワーホール船堀 - ECPv6.0.13.1//NONSGML v1.0//EN
CALSCALE:GREGORIAN
METHOD:PUBLISH
X-WR-CALNAME:タワーホール船堀
X-ORIGINAL-URL:https://www.towerhall.jp
X-WR-CALDESC:タワーホール船堀 のイベント
REFRESH-INTERVAL;VALUE=DURATION:PT1H
X-Robots-Tag:noindex
X-PUBLISHED-TTL:PT1H
BEGIN:VTIMEZONE
TZID:Asia/Tokyo
BEGIN:STANDARD
TZOFFSETFROM:+0900
TZOFFSETTO:+0900
TZNAME:JST
DTSTART:20260101T000000
END:STANDARD
END:VTIMEZONE
BEGIN:VEVENT
DTSTART;TZID=Asia/Tokyo:20260517T130000
DTEND;TZID=Asia/Tokyo:20260517T153000
DTSTAMP:20260422T175342
CREATED:20260401T054324Z
LAST-MODIFIED:20260401T054553Z
UID:6979-1779022800-1779031800@www.towerhall.jp
SUMMARY:すいれんの会　春のコンサート2026
DESCRIPTION:開催日 \n2026年5月17日(日) \n  \n開場/12:30 \n開演/13:00 \n終演/15:40 \n  \n入場料　1\,000円 \n（全席自由） \n  \n問合せ先 \nすいれん＆ヴォーチェ・アミーチ \n090-4053-0536 \nyuzaqa-7092caqt@memoad.jp
URL:https://www.towerhall.jp/event/tribe_events-6979/
CATEGORIES:大ホール
END:VEVENT
END:VCALENDAR