BEGIN:VCALENDAR
VERSION:2.0
PRODID:-//タワーホール船堀 - ECPv6.0.13.1//NONSGML v1.0//EN
CALSCALE:GREGORIAN
METHOD:PUBLISH
X-WR-CALNAME:タワーホール船堀
X-ORIGINAL-URL:https://www.towerhall.jp
X-WR-CALDESC:タワーホール船堀 のイベント
REFRESH-INTERVAL;VALUE=DURATION:PT1H
X-Robots-Tag:noindex
X-PUBLISHED-TTL:PT1H
BEGIN:VTIMEZONE
TZID:Asia/Tokyo
BEGIN:STANDARD
TZOFFSETFROM:+0900
TZOFFSETTO:+0900
TZNAME:JST
DTSTART:20260101T000000
END:STANDARD
END:VTIMEZONE
BEGIN:VEVENT
DTSTART;VALUE=DATE:20260511
DTEND;VALUE=DATE:20260516
DTSTAMP:20260422T185635
CREATED:20260219T100156Z
LAST-MODIFIED:20260315T070232Z
UID:6854-1778457600-1778889599@www.towerhall.jp
SUMMARY:第２５回　きらく会　墨交展
DESCRIPTION:使用施設名：展示ホール１ \n開催時間：10時00分～18時00分\n初日　：5月11日　13時00分～18時00分 \n最終日：5月15日　10時00分～16時00分\n\n \n入場料無料 \n  \n問い合わせ先\n法人名・団体名：きらく会・事務局\n電話番号：03-3676-2908
URL:https://www.towerhall.jp/event/tribe_events-6854/
LOCATION:展示ホール
CATEGORIES:展示ホール
END:VEVENT
BEGIN:VEVENT
DTSTART;TZID=Asia/Tokyo:20260511T183000
DTEND;TZID=Asia/Tokyo:20260511T200000
DTSTAMP:20260422T185635
CREATED:20260323T092034Z
LAST-MODIFIED:20260323T092034Z
UID:6966-1778524200-1778529600@www.towerhall.jp
SUMMARY:【ライブ配信／アーカイブ配信】子どもへの性加害ー”かわいいね”から始まる性的グルーミングとは何かー
DESCRIPTION:開催日時\n2026年5月11日（月曜日）18時30分から20時00分\n\n\n場所\nタワーホール船堀　401会議室\n\n \n  \n申し込み\n必要 \n2026年3月13日（金曜日）から2026年5月7日（木曜日）\n\n\n（注）詳しくは区ホームページをご覧ください。 \n  \n詳細はこちら \n  \n問合せ\n庶務係　電話：03-5661-2473 \n 
URL:https://www.towerhall.jp/event/tribe_events-6966/
CATEGORIES:その他
END:VEVENT
END:VCALENDAR