BEGIN:VCALENDAR
VERSION:2.0
PRODID:-//タワーホール船堀 - ECPv6.0.13.1//NONSGML v1.0//EN
CALSCALE:GREGORIAN
METHOD:PUBLISH
X-ORIGINAL-URL:https://www.towerhall.jp
X-WR-CALDESC:タワーホール船堀 のイベント
REFRESH-INTERVAL;VALUE=DURATION:PT1H
X-Robots-Tag:noindex
X-PUBLISHED-TTL:PT1H
BEGIN:VTIMEZONE
TZID:Asia/Tokyo
BEGIN:STANDARD
TZOFFSETFROM:+0900
TZOFFSETTO:+0900
TZNAME:JST
DTSTART:20260101T000000
END:STANDARD
END:VTIMEZONE
BEGIN:VEVENT
DTSTART;TZID=Asia/Tokyo:20260510T130000
DTEND;TZID=Asia/Tokyo:20260510T130000
DTSTAMP:20260422T185717
CREATED:20260325T235806Z
LAST-MODIFIED:20260326T013558Z
UID:6959-1778418000-1778418000@www.towerhall.jp
SUMMARY:えどがわ音楽フェスティバル2026
DESCRIPTION:使用施設名：大ホール \n開催期日：2026年5月10日（日曜日） \n  \n開場・開演・終演時間 \n開場：12時30分\n開演：13時00分 \n終演：17時予定 \n  \n入場料\n高校生以上　500円 \n  \n掲載する問い合わせ先 \n団体名：えどがわ音楽フェスティバル実行委員会 \n電話番号：090-6166-0869\nメールアドレス：contact@edofes.com \nホームページ：https://edofes.com/ \n  \n昭和100 年記念♪えどがわ音楽フェスティバル「えどフェス」は、2025 年(令和7 年)に昭和100 年を迎えるにあたり、出場者をはじめご来場の皆さんと昭和時代のいつまでも心に残る音楽を楽しみながら、江戸川区内のアマチュア音楽活動を応援するイベントで、今回で第2回を迎えます。
URL:https://www.towerhall.jp/event/tribe_events-6959/
LOCATION:大ホール
CATEGORIES:大ホール
END:VEVENT
END:VCALENDAR