BEGIN:VCALENDAR
VERSION:2.0
PRODID:-//タワーホール船堀 - ECPv6.0.13.1//NONSGML v1.0//EN
CALSCALE:GREGORIAN
METHOD:PUBLISH
X-ORIGINAL-URL:https://www.towerhall.jp
X-WR-CALDESC:タワーホール船堀 のイベント
REFRESH-INTERVAL;VALUE=DURATION:PT1H
X-Robots-Tag:noindex
X-PUBLISHED-TTL:PT1H
BEGIN:VTIMEZONE
TZID:Asia/Tokyo
BEGIN:STANDARD
TZOFFSETFROM:+0900
TZOFFSETTO:+0900
TZNAME:JST
DTSTART:20260101T000000
END:STANDARD
END:VTIMEZONE
BEGIN:VEVENT
DTSTART;VALUE=DATE:20260509
DTEND;VALUE=DATE:20260510
DTSTAMP:20260422T185820
CREATED:20260316T065814Z
LAST-MODIFIED:20260316T065814Z
UID:6948-1778284800-1778371199@www.towerhall.jp
SUMMARY:たましろフェスタ2026 in えどがわ
DESCRIPTION:  \n開催日時 \n2026年5月9日（土曜日）10時00分から18時30分 \n  \n大ホール：トークショーやアトラクション\n展示ホール2：各展示 \n  \n申し込み\n必要 \n  \n詳細はこちら \n  \n問合せ\n一般社団法人江戸川ろう者協会\n電話：03-6661-3004
URL:https://www.towerhall.jp/event/tribe_events-6948/
LOCATION:大ホール
CATEGORIES:その他,大ホール,展示ホール
END:VEVENT
END:VCALENDAR