BEGIN:VCALENDAR
VERSION:2.0
PRODID:-//タワーホール船堀 - ECPv6.0.13.1//NONSGML v1.0//EN
CALSCALE:GREGORIAN
METHOD:PUBLISH
X-WR-CALNAME:タワーホール船堀
X-ORIGINAL-URL:https://www.towerhall.jp
X-WR-CALDESC:タワーホール船堀 のイベント
REFRESH-INTERVAL;VALUE=DURATION:PT1H
X-Robots-Tag:noindex
X-PUBLISHED-TTL:PT1H
BEGIN:VTIMEZONE
TZID:Asia/Tokyo
BEGIN:STANDARD
TZOFFSETFROM:+0900
TZOFFSETTO:+0900
TZNAME:JST
DTSTART:20260101T000000
END:STANDARD
END:VTIMEZONE
BEGIN:VEVENT
DTSTART;VALUE=DATE:20260426
DTEND;VALUE=DATE:20260501
DTSTAMP:20260422T155409
CREATED:20260416T062640Z
LAST-MODIFIED:20260416T062640Z
UID:7027-1777161600-1777593599@www.towerhall.jp
SUMMARY:水彩人春季展
DESCRIPTION:開催日時 \n開始日：2026年4月26日\n終了日：2026年4月30日 \n  \n開場時間　10:00～19:00　※最終日は15:00に終了 \n入場は終了30分前まで。 \n  \n1階展示ホール1・2\n入場料無料 \n  \n問い合わせ先 \n団体名：一般社団法人　　水彩人 \nメールアドレス：pidogon1952@i.softbank.jp \n 
URL:https://www.towerhall.jp/event/tribe_events-7027/
LOCATION:展示ホール
CATEGORIES:展示ホール
END:VEVENT
BEGIN:VEVENT
DTSTART;TZID=Asia/Tokyo:20260429T133000
DTEND;TZID=Asia/Tokyo:20260429T153000
DTSTAMP:20260422T155409
CREATED:20260219T043919Z
LAST-MODIFIED:20260219T043919Z
UID:6851-1777469400-1777476600@www.towerhall.jp
SUMMARY:江戸川ウインドオーケストラ2026スプリングコンサート
DESCRIPTION:使用施設名：大ホール \n  \n開催日：2026年04月29日 \n  \n開場・開演・終演時間 \n開場：13時00分 \n開演：13時30分 \n終演：15時30分 \n  \n入場料無料 \n  \n掲載する問い合わせ先 \n団体名：江戸川ウインドオーケストラ \n電話番号：090-7013-5309 \nメールアドレス：edogawa.wind@gmail.com \nホームページ：https://www.edogawawind.com/ \n  \n・入場無料、チケット等不要です。\n・客席数を超えた場合は、入場をお断りする場合があります。\n・客席でのマナーにご協力をお願いします。
URL:https://www.towerhall.jp/event/tribe_events-6851/
LOCATION:大ホール
CATEGORIES:大ホール
END:VEVENT
END:VCALENDAR