BEGIN:VCALENDAR
VERSION:2.0
PRODID:-//タワーホール船堀 - ECPv6.0.13.1//NONSGML v1.0//EN
CALSCALE:GREGORIAN
METHOD:PUBLISH
X-ORIGINAL-URL:https://www.towerhall.jp
X-WR-CALDESC:タワーホール船堀 のイベント
REFRESH-INTERVAL;VALUE=DURATION:PT1H
X-Robots-Tag:noindex
X-PUBLISHED-TTL:PT1H
BEGIN:VTIMEZONE
TZID:Asia/Tokyo
BEGIN:STANDARD
TZOFFSETFROM:+0900
TZOFFSETTO:+0900
TZNAME:JST
DTSTART:20260101T000000
END:STANDARD
END:VTIMEZONE
BEGIN:VEVENT
DTSTART;TZID=Asia/Tokyo:20260424T100000
DTEND;TZID=Asia/Tokyo:20260426T170000
DTSTAMP:20260422T155702
CREATED:20260211T012911Z
LAST-MODIFIED:20260416T012115Z
UID:6819-1777024800-1777222800@www.towerhall.jp
SUMMARY:伝統工芸を楽しむ三日間　-江戸川区の匠による展示と販売-
DESCRIPTION:  \n\n\n\nタワーホール船堀 1階　アトリウム\n\n\n\n日時：令和8年4月24日（金）25日（土）26日（日）\n各日 午前10時から午後５時まで\n\n\n\n\n【お問い合わせ】\nタワーホール船堀　03-5676-2211\n\n\n\n\n【主催】江戸川区 / タワーホール船堀\n【協力】江戸川伝統工芸振興会
URL:https://www.towerhall.jp/event/tribe_events-6819/
CATEGORIES:その他
ATTACH;FMTTYPE=image/jpeg:/tower/wp-content/uploads/2026/02/26春チラシデータ-e1770773189335.jpg
END:VEVENT
END:VCALENDAR