BEGIN:VCALENDAR
VERSION:2.0
PRODID:-//タワーホール船堀 - ECPv6.0.13.1//NONSGML v1.0//EN
CALSCALE:GREGORIAN
METHOD:PUBLISH
X-WR-CALNAME:タワーホール船堀
X-ORIGINAL-URL:https://www.towerhall.jp
X-WR-CALDESC:タワーホール船堀 のイベント
REFRESH-INTERVAL;VALUE=DURATION:PT1H
X-Robots-Tag:noindex
X-PUBLISHED-TTL:PT1H
BEGIN:VTIMEZONE
TZID:Asia/Tokyo
BEGIN:STANDARD
TZOFFSETFROM:+0900
TZOFFSETTO:+0900
TZNAME:JST
DTSTART:20260101T000000
END:STANDARD
END:VTIMEZONE
BEGIN:VEVENT
DTSTART;VALUE=DATE:20260411
DTEND;VALUE=DATE:20260417
DTSTAMP:20260422T155512
CREATED:20260221T074402Z
LAST-MODIFIED:20260221T074402Z
UID:6880-1775865600-1776383999@www.towerhall.jp
SUMMARY:江戸川文化写真連盟2026写真展
DESCRIPTION:開催日時 \n2026年4月11日（土曜日）10時00分から2026年4月16日（木曜日）17時00分\n(注)17時以降はご入場いただけません。 \n  \n1階展示ホール1\n\n \n主催\n江戸川文化写真連盟\n電話番号：090-5510-9798 \n  \n入場料無料 \n  \n詳しくはこちら \n 
URL:https://www.towerhall.jp/event/tribe_events-6880/
LOCATION:展示ホール
CATEGORIES:展示ホール
END:VEVENT
END:VCALENDAR