BEGIN:VCALENDAR
VERSION:2.0
PRODID:-//タワーホール船堀 - ECPv6.0.13.1//NONSGML v1.0//EN
CALSCALE:GREGORIAN
METHOD:PUBLISH
X-ORIGINAL-URL:https://www.towerhall.jp
X-WR-CALDESC:タワーホール船堀 のイベント
REFRESH-INTERVAL;VALUE=DURATION:PT1H
X-Robots-Tag:noindex
X-PUBLISHED-TTL:PT1H
BEGIN:VTIMEZONE
TZID:Asia/Tokyo
BEGIN:STANDARD
TZOFFSETFROM:+0900
TZOFFSETTO:+0900
TZNAME:JST
DTSTART:20260101T000000
END:STANDARD
END:VTIMEZONE
BEGIN:VEVENT
DTSTART;VALUE=DATE:20260411
DTEND;VALUE=DATE:20260417
DTSTAMP:20260422T155737
CREATED:20260221T074402Z
LAST-MODIFIED:20260221T074402Z
UID:6880-1775865600-1776383999@www.towerhall.jp
SUMMARY:江戸川文化写真連盟2026写真展
DESCRIPTION:開催日時 \n2026年4月11日（土曜日）10時00分から2026年4月16日（木曜日）17時00分\n(注)17時以降はご入場いただけません。 \n  \n1階展示ホール1\n\n \n主催\n江戸川文化写真連盟\n電話番号：090-5510-9798 \n  \n入場料無料 \n  \n詳しくはこちら \n 
URL:https://www.towerhall.jp/event/tribe_events-6880/
LOCATION:展示ホール
CATEGORIES:展示ホール
END:VEVENT
BEGIN:VEVENT
DTSTART;TZID=Asia/Tokyo:20260411T100000
DTEND;TZID=Asia/Tokyo:20260411T113000
DTSTAMP:20260422T155737
CREATED:20260221T064156Z
LAST-MODIFIED:20260221T064156Z
UID:6865-1775901600-1775907000@www.towerhall.jp
SUMMARY:初心者のための茶道教室（前期）
DESCRIPTION:開催日時\n2026年4月11日（土曜日）\n全6回の連続講座です。\n講座開始時間は10時です。\n終了時間は11時30分を予定しています。\n4階　和室2 \n  \n問合せ\n江戸川区華道茶道協会\n石田(電話番号：090-6701-8359) \n  \n主催\n江戸川区華道茶道協会 \n  \n詳細はこちらまで
URL:https://www.towerhall.jp/event/tribe_events-6865/
CATEGORIES:その他
END:VEVENT
BEGIN:VEVENT
DTSTART;TZID=Asia/Tokyo:20260411T130000
DTEND;TZID=Asia/Tokyo:20260411T150000
DTSTAMP:20260422T155737
CREATED:20260212T085131Z
LAST-MODIFIED:20260212T085131Z
UID:6839-1775912400-1775919600@www.towerhall.jp
SUMMARY:千代野会
DESCRIPTION:使用施設名：大ホール \n  \n開催日：2026年04月11日 \n  \n開場・開演・終演時間 \n開場：12時00分 \n開演：13時00分 \n終演：15時00分（予定） \n  \n入場料\n前売り：6\,000円\n当　日：6\,000円 \n  \n掲載する問い合わせ先 \n団体名：坂東流 日本舞踊研究所 \n電話番号：03-3878-8610 \nメールアドレス：hougakuhoubu.academy@gmail.com \nホームページ：https://www.hougakuhoubu-academy.com/ \n  \n 
URL:https://www.towerhall.jp/event/tribe_events-6839/
LOCATION:大ホール
CATEGORIES:大ホール
END:VEVENT
END:VCALENDAR