BEGIN:VCALENDAR
VERSION:2.0
PRODID:-//タワーホール船堀 - ECPv6.0.13.1//NONSGML v1.0//EN
CALSCALE:GREGORIAN
METHOD:PUBLISH
X-ORIGINAL-URL:https://www.towerhall.jp
X-WR-CALDESC:タワーホール船堀 のイベント
REFRESH-INTERVAL;VALUE=DURATION:PT1H
X-Robots-Tag:noindex
X-PUBLISHED-TTL:PT1H
BEGIN:VTIMEZONE
TZID:Asia/Tokyo
BEGIN:STANDARD
TZOFFSETFROM:+0900
TZOFFSETTO:+0900
TZNAME:JST
DTSTART:20260101T000000
END:STANDARD
END:VTIMEZONE
BEGIN:VEVENT
DTSTART;VALUE=DATE:20260403
DTEND;VALUE=DATE:20260406
DTSTAMP:20260422T155634
CREATED:20260222T011745Z
LAST-MODIFIED:20260315T061943Z
UID:6885-1775174400-1775433599@www.towerhall.jp
SUMMARY:30周年 押し花サロン・40周年 あみものホビーサークル あゆみ展
DESCRIPTION:使用施設名：展示ホール１・2 \n  \n開催期間 \n4/3(金) 12:30~19:00\n4/4(土) 10:00~19:00\n4/5(日) 10:00~16:00 \n  \n入場料無料 \n  \n問い合わせ先\n担当者名：大平\n電話番号：03-3698-2450\nメールアドレス：nittosaron_tikyu-o-hashiru@ezweb.ne.jp
URL:https://www.towerhall.jp/event/tribe_events-6885/
LOCATION:展示ホール
CATEGORIES:展示ホール
END:VEVENT
BEGIN:VEVENT
DTSTART;TZID=Asia/Tokyo:20260405T133000
DTEND;TZID=Asia/Tokyo:20260405T153000
DTSTAMP:20260422T155634
CREATED:20260105T030938Z
LAST-MODIFIED:20260211T064839Z
UID:6684-1775395800-1775403000@www.towerhall.jp
SUMMARY:リコリスウィンドアンサンブル　コンサートVo.5
DESCRIPTION:使用施設名：大ホール \n  \n開催日：2026年04月05日 \n  \n開場・開演・終演時間 \n開場：12時30分 \n開演：13時30分 \n終演：15時30分 \n  \n入場料：無料 \n  \n掲載する問い合わせ先 \n団体名：リコリスウィンドアンサンブル \n電話番号：090-6539-7036 \nメールアドレス：youko-maojasmine.1226@i.softbank.jp \nホームページ：http://edogawagmc.sakura.ne.jp \n  \n 
URL:https://www.towerhall.jp/event/tribe_events-6684/
LOCATION:大ホール
CATEGORIES:大ホール
END:VEVENT
END:VCALENDAR