BEGIN:VCALENDAR
VERSION:2.0
PRODID:-//タワーホール船堀 - ECPv6.0.13.1//NONSGML v1.0//EN
CALSCALE:GREGORIAN
METHOD:PUBLISH
X-ORIGINAL-URL:https://www.towerhall.jp
X-WR-CALDESC:タワーホール船堀 のイベント
REFRESH-INTERVAL;VALUE=DURATION:PT1H
X-Robots-Tag:noindex
X-PUBLISHED-TTL:PT1H
BEGIN:VTIMEZONE
TZID:Asia/Tokyo
BEGIN:STANDARD
TZOFFSETFROM:+0900
TZOFFSETTO:+0900
TZNAME:JST
DTSTART:20260101T000000
END:STANDARD
END:VTIMEZONE
BEGIN:VEVENT
DTSTART;TZID=Asia/Tokyo:20260329T110000
DTEND;TZID=Asia/Tokyo:20260329T180000
DTSTAMP:20260422T155901
CREATED:20260311T023753Z
LAST-MODIFIED:20260315T055830Z
UID:6940-1774782000-1774807200@www.towerhall.jp
SUMMARY:第４７回全日本リコーダーコンテスト
DESCRIPTION:使用施設名：大ホール\,小ホール \n  \n開場・開演・終演時間 \n開場：10時30分 \n開演：11時00分 \n終演：18時00分（予定） \n  \n開催日：2026年03月29日 \n  \n入場料 \n前売り：出場団体の関係者のみ \n当　日：1\,000円 \n  \n問い合わせ先 \n法人名・団体名：全日本リコーダー教育研究会 \nメールアドレス：zen.rikoken@gmail.com \nホームページ：https://zenrikoken.com/
URL:https://www.towerhall.jp/event/tribe_events-6940/
CATEGORIES:大ホール,小ホール
END:VEVENT
END:VCALENDAR